BEGIN:VCALENDAR
VERSION:2.0
BEGIN:VEVENT
CLASS:PUBLIC
CATEGORIES:MEETING
DTSTART;TZID=America/New_York:20260507T180000
DTEND;TZID=America/New_York:20260507T180000
SUMMARY:Eleni Skiba at Tiki 52
DESCRIPTION:Age Limit: All Ages\n\nDetails: Samantha Rusell Duo
LOCATION:Tiki 52 - Jupiter, FL, US
END:VEVENT

END:VCALENDAR
