BEGIN:VCALENDAR
VERSION:2.0
BEGIN:VEVENT
CLASS:PUBLIC
CATEGORIES:MEETING
DTSTART;TZID=America/New_York:20260905T170000
DTEND;TZID=America/New_York:20260905T170000
SUMMARY:LESSON ZERO at Vanish Farmwoods Brewery
DESCRIPTION:Price: free\nAge Limit: All Ages\n\nDetails: Great venue, good food and drinks, friendly folks, plenty of parking, no cover, and way cool music from Oasis recoding artist LESSON ZERO
LOCATION:Vanish Farmwoods Brewery - 42245 Black Hops Lane, Leesburg, VA, 20176, US
END:VEVENT

END:VCALENDAR
