BEGIN:VCALENDAR
VERSION:2.0
BEGIN:VEVENT
CLASS:PUBLIC
CATEGORIES:MEETING
DTSTART;TZID=America/Chicago:20260501T200000
DTEND;TZID=America/Chicago:20260501T200000
SUMMARY:Texas Flood at Rock and Brews
DESCRIPTION:Age Limit: All Ages
LOCATION:Rock and Brews - 520 West State Highway 114, Grapevine, TX, 76051, US
END:VEVENT

END:VCALENDAR
