BEGIN:VCALENDAR
VERSION:2.0
BEGIN:VEVENT
CLASS:PUBLIC
CATEGORIES:MEETING
DTSTART;TZID=America/Chicago:20260425T183000
DTEND;TZID=America/Chicago:20260425T183000
SUMMARY:Texas Flood at Stevie Ray Vaughan Park
DESCRIPTION:Age Limit: All Ages
LOCATION:Stevie Ray Vaughan Park - 4334 West Jefferson Boulevard, Dallas, TX, 75211, US
END:VEVENT

END:VCALENDAR
