BEGIN:VCALENDAR
VERSION:2.0
BEGIN:VEVENT
CLASS:PUBLIC
CATEGORIES:MEETING
DTSTART;TZID=America/Chicago:20260620T200000
DTEND;TZID=America/Chicago:20260620T200000
SUMMARY:Texas Flood at The State Theatre
DESCRIPTION:Click here to buy tickets: https://app.promotix.com/events/details/TEXAS-FLOOD---Stevie-Ray-Vaughan-Tribute-tickets?fbclid=IwY2xjawRU_Z1leHRuA2FlbQIxMABicmlkETFOUXFnTXRRUWZaVDZSRTlpc3J0YwZhcHBfaWQQMjIyMDM5MTc4ODIwMDg5MgABHvrSSOOesMRco4j-Ozy55qGgHFl0BcmTj3ajq_4J27fhiZ3pa9KUemcBq8Sj_\nAge Limit: All Ages
LOCATION:The State Theatre - 1961 Church Avenue, Harrah, OK, 73045, US
END:VEVENT

END:VCALENDAR
