BEGIN:VCALENDAR
VERSION:2.0
BEGIN:VEVENT
CLASS:PUBLIC
CATEGORIES:MEETING
DTSTART;TZID=America/New_York:20260514T183000
DTEND;TZID=America/New_York:20260514T183000
SUMMARY:Arts & Entertainment Mixer at Drum Orpheum Rehearsal Hall
DESCRIPTION:Price: 0.00\nClick here to buy tickets: https://www.drumorpheum.com/events\nAge Limit: All Ages\n\nDetails: Save the date for Drum Orpheum&#39;s Arts and Entertainment networking event for all local and abroad creatives in the industry!\n\nWhether you&#39;re a musician, manager, photographer, dancer, singer, or volunteer, come join us for a night of networking with like-minded people.\n\nHappening every 2nd Thursday!\nRefreshments will be provided!\n\nAdmission is free, we only ask that you RSVP online.
LOCATION:Drum Orpheum Rehearsal Hall - 11 West Oates Avenue, Winchester, VA, 22601, US
END:VEVENT

END:VCALENDAR
