BEGIN:VCALENDAR
VERSION:2.0
BEGIN:VEVENT
CLASS:PUBLIC
CATEGORIES:MEETING
DTSTART;TZID=America/Detroit:20260509T180000
DTEND;TZID=America/Detroit:20260509T180000
SUMMARY:Sweet Crystal at Abundant Life Ministry: The Gathering
DESCRIPTION:Age Limit: All Ages\n\nDetails: Looking forward to our return to an evening of music, message, ministry and very sweet fellowship...and this time we&#39;re bringing a superstar friend! Abundant Life Ministries is hosting our &#39;Sweet Crystal Lite&#39; musical presentation (MarQ Andrew Speck: lead vocals, keys and Bill Blatter: vocals, guitars)...but we&#39;re not alone! Joining us will be MarQ&#39;s partner in QTPi, the incredible David Winans II. Family-friendly and free, this is indeed how to make a Saturday night in Michigan sweet and Spirit-filled! Doors at 6pm, music at 7pm. We will definitely save you a seat.
LOCATION:Abundant Life Ministry: The Gathering - 8971 Lewis Avenue, Temperance, MI, 48182, US
END:VEVENT

END:VCALENDAR
