BEGIN:VCALENDAR
VERSION:2.0
BEGIN:VEVENT
CLASS:PUBLIC
CATEGORIES:MEETING
DTSTART;TZID=America/Chicago:20260522T200000
DTEND;TZID=America/Chicago:20260522T200000
SUMMARY:Tristan Roberson at Cowgirls Tavern
DESCRIPTION:Price: 20\nClick here to buy tickets: https://allevents.in/calvert/tristan-roberson-live-at-cowgirls-tavern-tickets/80004091759037\nAge Limit: All Ages
LOCATION:Cowgirls Tavern - 508 South Main, Calvert, TX, 77837, US
END:VEVENT

END:VCALENDAR
