BEGIN:VCALENDAR
VERSION:2.0
BEGIN:VEVENT
CLASS:PUBLIC
CATEGORIES:MEETING
DTSTART;TZID=America/New_York:20260507T190000
DTEND;TZID=America/New_York:20260507T190000
SUMMARY:King Street Bluegrass at The Barns at Wolf Trap
DESCRIPTION:Price: $includes all food and to drink tickets $150 includes all food and 2 drinks\nClick here to buy tickets: https://cbo.io/app/public/bidapp/thriving\nAge Limit: All Ages\n\nDetails: Celebration includes...\n\nA program to encourage, motivate, and inspire\n\nHosted by Doreen Gentzler and featuring Stroke Comeback Center members\n\nLive music by King Street Bluegrass\n\nFeaturing SCC Member Robert Swain\n\nExciting silent auction and games Soft drinks, cocktails, beer, and wine Tasty hors d’oeuvres and our Sweet Celebrations dessert table!\nIndividual Ticket $150 Event tickets include admission, entertainment, hors d’oeuvres and desserts, and two drink tickets (additional drink tickets available). Gluten-free and vegetarian options provided. Parking is readily available.
LOCATION:The Barns at Wolf Trap - 1635 Trap Rd, Vienna, VA, 22182, US
END:VEVENT

END:VCALENDAR
