BEGIN:VCALENDAR
VERSION:2.0
BEGIN:VEVENT
CLASS:PUBLIC
CATEGORIES:MEETING
DTSTART;TZID=America/Chicago:20260516T150000
DTEND;TZID=America/Chicago:20260516T150000
SUMMARY:Texas Flood at Camp Margaritaville
DESCRIPTION:Click here to buy tickets: https://campmargaritavillecrystalbeach.247activities.com/services/TexasFlood\nAge Limit: All Ages
LOCATION:Camp Margaritaville - 796 Texas 87, Bolivar Peninsula, TX, 77650, US
END:VEVENT

END:VCALENDAR
