BEGIN:VCALENDAR
VERSION:2.0
BEGIN:VEVENT
CLASS:PUBLIC
CATEGORIES:MEETING
DTSTART;TZID=America/New_York:20260515T190000
DTEND;TZID=America/New_York:20260515T190000
SUMMARY:Bryan K Buchanan at Rehab sports bar
DESCRIPTION:Age Limit: All Ages
LOCATION:Rehab sports bar - 616 n state street, Bunnell, FL, 32110, US
END:VEVENT

END:VCALENDAR
