BEGIN:VCALENDAR
VERSION:2.0
BEGIN:VEVENT
CLASS:PUBLIC
CATEGORIES:MEETING
DTSTART;TZID=America/New_York:20260502T193000
DTEND;TZID=America/New_York:20260502T193000
SUMMARY:Scott Hetz Clark at Drum Orpheum Rehearsal Hall
DESCRIPTION:Price: 5-55\nClick here to buy tickets: https://www.drumorpheum.com/events\nAge Limit: All Ages\n\nDetails: Scott Hetz Clark has become one of the DMV’s standout jazz voices, performing everywhere from intimate wine bars to major concert stages. After discovering jazz during the post-pandemic return to live music, Scott has made a splash throughout DC, Maryland, and Northern Virginia. He is a regular performer at Carbonara Restaurant (Arlington)—a Newsweek nationally recognized restaurant—as well as wineries, breweries, lounges, and jazz nights across the region.\nScott was a recent Top 3 Finalist in the prestigious Best of Loudoun 2025, and he recently headlined the Tarara Summer Concert Series with Loudoun’s premier big band, Big Night.\n.\nDoors open: 7:30pm\nShow Starts: 8:00pm\nLocation: Drum Orpheum Rehearsal Hall, 205 N Queen St, Martinsburg, WV\n.\nTickets\nChildren (Under 12): $5\nSeniors/Students (High School/College): $12\nGeneral Admission: $20\nFront Row (Seats 2, price for 2): $55\nTables (Seats 3 people/price is for 3 people): $55\n.\nDrum Orpheum Rehearsal Hall is an all-ages venue (unless otherwise stated). The facility is also a &quot;listening&quot; room, so please refrain from having conversations during the artist&#39;s performance. Video recording and photography IS allowed, share the experience with all.
LOCATION:Drum Orpheum Rehearsal Hall - 11 West Oates Avenue, Winchester, VA, 22601, US
END:VEVENT

END:VCALENDAR
