BEGIN:VCALENDAR
VERSION:2.0
BEGIN:VEVENT
CLASS:PUBLIC
CATEGORIES:MEETING
DTSTART:20260801T220000Z
DTEND:20260801T220000Z
SUMMARY:Bryan K Buchanan at Private party
DESCRIPTION:Age Limit: All Ages
LOCATION:Private party - 1776 none of your business Avenue, Bunnell, FL, US
END:VEVENT

END:VCALENDAR
