BEGIN:VCALENDAR
VERSION:2.0
BEGIN:VEVENT
CLASS:PUBLIC
CATEGORIES:MEETING
DTSTART;TZID=America/New_York:20260606T180000
DTEND;TZID=America/New_York:20260606T180000
SUMMARY:Bryan K Buchanan at Ithink amphitheater with Hank Junior, David Lee Murphy and Joe Nichols
DESCRIPTION:Age Limit: All Ages
LOCATION:Ithink amphitheater with Hank Junior, David Lee Murphy and Joe Nichols - 601 sansbury way, West Palm Beach, FL, 33411, US
END:VEVENT

END:VCALENDAR
