BEGIN:VCALENDAR
VERSION:2.0
BEGIN:VEVENT
CLASS:PUBLIC
CATEGORIES:MEETING
DTSTART;TZID=America/New_York:20260425T183000
DTEND;TZID=America/New_York:20260425T183000
SUMMARY:Salsa & Bachata Monthly Dance Social at Drum Orpheum Rehearsal Hall
DESCRIPTION:Price: 10-15\nClick here to buy tickets: https://www.drumorpheum.com/events\nAge Limit: 18+\n\nDetails: Step out onto our beautiful hardwood floor and dance the night away to the Latin rhythms that are sure to get those hips swinging!\n.\nBeginner friendly salsa lesson before the social gets you ready for the night with some smooth moves and meet new friends.\n.\nSalsa Lesson: 7pm\nSocial Dance: 8pm-11pm\n.\nTickets:\nLesson/Social: $15\nSocial Only: $10\nStudents (18+, lesson/social): $5\nAges: 18+ See less
LOCATION:Drum Orpheum Rehearsal Hall - 11 West Oates Avenue, Winchester, VA, 22601, US
END:VEVENT

END:VCALENDAR
