BEGIN:VCALENDAR
VERSION:2.0
BEGIN:VEVENT
CLASS:PUBLIC
CATEGORIES:MEETING
DTSTART;TZID=America/Chicago:20260430T200000
DTEND;TZID=America/Chicago:20260430T200000
SUMMARY:Patrice Pike at Saxon Pub
DESCRIPTION:Age Limit: 21+
LOCATION:Saxon Pub - 1320 S Lamar Blvd, Austin, TX, 78704, US
END:VEVENT

END:VCALENDAR
