BEGIN:VCALENDAR
VERSION:2.0
BEGIN:VEVENT
CLASS:PUBLIC
CATEGORIES:MEETING
DTSTART;TZID=America/Chicago:20260511T210000
DTEND;TZID=America/Chicago:20260511T210000
SUMMARY:Nigel Mack at Buddy Guy's Legends
DESCRIPTION:Age Limit: 21+ or w/ adult
LOCATION:Buddy Guy's Legends - 700 South Wabash Avenue, Chicago, IL, 60605, US
END:VEVENT

END:VCALENDAR
