BEGIN:VCALENDAR
VERSION:2.0
BEGIN:VEVENT
CLASS:PUBLIC
CATEGORIES:MEETING
DTSTART;TZID=America/New_York:20260503T120000
DTEND;TZID=America/New_York:20260503T120000
SUMMARY:Bryan K Buchanan at Rehab sports bar
DESCRIPTION:Age Limit: All Ages
LOCATION:Rehab sports bar - 616 north state st, Bunnell, FL, 32110, US
END:VEVENT

END:VCALENDAR
