BEGIN:VCALENDAR
VERSION:2.0
BEGIN:VEVENT
CLASS:PUBLIC
CATEGORIES:MEETING
DTSTART;TZID=America/Detroit:20260424T200000
DTEND;TZID=America/Detroit:20260424T200000
SUMMARY:Bob Hausler at Gaelic League of Detroit
DESCRIPTION:Price: $20.00\nClick here to buy tickets: https://www.noxp.club/event-details/corktown-music-festival-2026\nAge Limit: All Ages\n\nDetails: Bob will play a short acoustic set for the Corktown Music Festival. There will be approximately. 160 acts over 3 days. 12 venues. A primer event in the Detroit music scene.  
LOCATION:Gaelic League of Detroit - 2068 Michigan Ave, Detroit, MI, 48216-1303, US
END:VEVENT

END:VCALENDAR
