BEGIN:VCALENDAR
VERSION:2.0
BEGIN:VEVENT
CLASS:PUBLIC
CATEGORIES:MEETING
DTSTART;TZID=America/Chicago:20260426T170000
DTEND;TZID=America/Chicago:20260426T170000
SUMMARY:Texas Flood at Texas Live
DESCRIPTION:Age Limit: All Ages
LOCATION:Texas Live - 1650 East Randol Mill Road, Arlington, TX, 76011, US
END:VEVENT

END:VCALENDAR
