BEGIN:VCALENDAR
VERSION:2.0
BEGIN:VEVENT
CLASS:PUBLIC
CATEGORIES:MEETING
DTSTART;TZID=America/Chicago:20260423T180000
DTEND;TZID=America/Chicago:20260423T180000
SUMMARY:Brian Grace Music at The Ivy Tavern
DESCRIPTION:Age Limit: All Ages
LOCATION:The Ivy Tavern - 5334 Lemmon Avenue, Dallas, TX, 75209, US
END:VEVENT

END:VCALENDAR
