BEGIN:VCALENDAR
VERSION:2.0
BEGIN:VEVENT
CLASS:PUBLIC
CATEGORIES:MEETING
DTSTART;TZID=America/Chicago:20260530T193000
DTEND;TZID=America/Chicago:20260530T193000
SUMMARY:Texas Flood at Cactus Theater
DESCRIPTION:Click here to buy tickets: https://www.cactustheater.com/upcoming-productions/2024/11/23/texas-flood-1-touring-tribute-to-stevie-ray-vaughan-live-at-cactus-theater-gs4sx\nAge Limit: All Ages
LOCATION:Cactus Theater - Lubbock, TX, US
END:VEVENT

END:VCALENDAR
