BEGIN:VCALENDAR
VERSION:2.0
BEGIN:VEVENT
CLASS:PUBLIC
CATEGORIES:MEETING
DTSTART;TZID=America/Chicago:20260611T160000
DTEND;TZID=America/Chicago:20260611T160000
SUMMARY:DANICA ~ Solo at Barry's Beach Bar
DESCRIPTION:Age Limit: All Ages
LOCATION:Barry's Beach Bar - 7010 Padre Blv, South Padre Osland, TX, 78597, US
END:VEVENT

END:VCALENDAR
