BEGIN:VCALENDAR
VERSION:2.0
BEGIN:VEVENT
CLASS:PUBLIC
CATEGORIES:MEETING
DTSTART;TZID=America/Los_Angeles:20260529T193000
DTEND;TZID=America/Los_Angeles:20260529T193000
SUMMARY:Tuck & Patti at Almost Famous Wine Company
DESCRIPTION:Price: Tickets start at $29\nClick here to buy tickets: https://www.eventbrite.com/e/tuck-and-patti-tickets-1986572605139?aff=revnat&amp;keep_tld=true\nAge Limit: 21+\n\nDetails: Acclaimed jazz duo known for “Tears of Joy,” “Time After Time,” and their must-see live shows. “The best duo on the planet!” -Bobby McFerrin\n\n21+ | Bar opens 6:30 pm. Happy hour 6:30 – 7 pm. Show starts 7:30 pm.\n\nTwo-drink minimum per guest. Come early for happy hour specials!\n\n\nPerforming together for over 45 years, and married for 42, this renowned improvisational vocal/guitar jazz duo always plays from the heart. It&#39;s hard to imagine a more complementary pair of collaborators. Minimalist arrangements highlight Tuck&#39;s extraordinary guitar virtuosity and Patti&#39;s rich mezzo soprano. Since their 1988 groundbreaking album Tears of Joy, the beloved duo has appeared alongside Miles Davis, Count Basie, George Benson, Chick Corea, Herbie Hancock and many others and been hailed as “the best duo on the planet” by Bobby McFerrin. To appreciate the depth of their talent and virtuosity, you really need to see them play live!\n\nSee them live at Almost Famous Wine Lounge, an award-winning tasting room and world-class music venue located in the heart of Livermore&#39;s urban wine, spirits and brewery district.
LOCATION:Almost Famous Wine Company - 2271 South Vasco Road, Livermore, CA, 94550, US
END:VEVENT

END:VCALENDAR
