BEGIN:VCALENDAR
VERSION:2.0
BEGIN:VEVENT
CLASS:PUBLIC
CATEGORIES:MEETING
DTSTART;TZID=America/Los_Angeles:20260523T170000
DTEND;TZID=America/Los_Angeles:20260523T170000
SUMMARY:Texas Flood at Ko-Kwel Casino
DESCRIPTION:Age Limit: All Ages
LOCATION:Ko-Kwel Casino - 3201 Tremont Avenue, North Bend, OR, 97459, US
END:VEVENT

END:VCALENDAR
