BEGIN:VCALENDAR
VERSION:2.0
BEGIN:VEVENT
CLASS:PUBLIC
CATEGORIES:MEETING
DTSTART;TZID=America/New_York:20260425T213000
DTEND;TZID=America/New_York:20260425T213000
SUMMARY:PR1 Promotions / DJ Tiburon at Moondoggys Saloon
DESCRIPTION:Age Limit: 21+\n\nDetails: Friday and Saturday night back to back moondoggy&#39;s 2.0 with DJ Tiburon AKA Paco
LOCATION:Moondoggys Saloon - Gulf gate, Sarasota, FL, 34231, US
END:VEVENT

END:VCALENDAR
