BEGIN:VCALENDAR
VERSION:2.0
BEGIN:VEVENT
CLASS:PUBLIC
CATEGORIES:MEETING
DTSTART;TZID=America/New_York:20260424T213000
DTEND;TZID=America/New_York:20260424T213000
SUMMARY:PR1 Promotions / DJ Tiburon at Moondoggys Saloon
DESCRIPTION:Age Limit: 21+\n\nDetails: DJ Tiburon AKA Paco returns for the weekend wild mix. Moondoggy&#39;s 2.0 up tempo open format. 930 -1:30
LOCATION:Moondoggys Saloon - Gulfgate dr, Sarasota, FL, 34231, US
END:VEVENT

END:VCALENDAR
