BEGIN:VCALENDAR
VERSION:2.0
BEGIN:VEVENT
CLASS:PUBLIC
CATEGORIES:MEETING
DTSTART;TZID=Pacific/Auckland:20260711T200000
DTEND;TZID=Pacific/Auckland:20260711T200000
SUMMARY:Phreaze at The Midwinter Old Skool Block Party @ TOTARA STREET
DESCRIPTION:Price: 15\nClick here to buy tickets: https://totarastreet.co.nz/events/2026/july/the-midwinter-old-skool-block-party\nAge Limit: 18+\n\nDetails: Mr Williams is proud to announce and super hyped to confirm that we have a special guest performance by \n🙌🔥Phreaze ft. A Psalm of Hearts &amp; Rome🔥🙌\nIf you were at the last party, you already know how good they were; the energy was unreal, so we’re stoked to have them back as our local talent for this one.\nAs you already know, DJ Ayeshas on deck all night, bringing those 90s and 00s hip-hop and RnB tunes that just keep on calling… never lonely… makes you wanna smack that and drop it down like a bonanza ...alright, enough Akon puns 😅 but you get the vibe; we’re taking it all the way back. \nThis is one of those nights where the energy’s high, the dancefloor’s full, and everyone’s just vibing: good music, good people, real connection. Leave the phones in your pocket and get back to how it used to be.\nWe’ve got giveaways and spot prizes on the night 🎁, and **Phreaze will also have a stall set up. What a blessing!\nTickets are priced low on purpose, so no excuses… even if you’ve got to bike it to save some gas, do it. 😄 Take it back to the days we used to walk or ride to parties, show up, dance, and enjoy yourselves.\nWe planned this right in the middle of the July school holidays and just after Matariki – perfect timing to line up a babysitter, get the girls together, hit up the bros, and come through for a mean night of good vibes and energy.\nEarly bird tickets are very limited, so if you’re planning to come, now’s the time to lock it in. 🎟️\nMore updates and announcements coming soon. 👀\nAlso tag a mate &amp; share this post, &amp; you might go into a sneaky draw to go onto a mysterious draw... to win a mysterious (But completely legit) prize. \nDeuces \nTicket link in the bio
LOCATION:The Midwinter Old Skool Block Party @ TOTARA STREET - 11 Totara Street, Tauranga, BOP, 3112, NZ
END:VEVENT

END:VCALENDAR
