BEGIN:VCALENDAR
VERSION:2.0
BEGIN:VEVENT
CLASS:PUBLIC
CATEGORIES:MEETING
DTSTART;TZID=America/New_York:20260807T113000
DTEND;TZID=America/New_York:20260807T113000
SUMMARY:Bob Niederriter at Springfield Museum Of Art
DESCRIPTION:Age Limit: All Ages\n\nDetails: Trio performance at Lunch on the Lawn , with Jon Eshelman on hammond organ , and Roy King on drums .
LOCATION:Springfield Museum Of Art - 107 Cliff Park Rd, Springfield, OH, 45504, US
END:VEVENT

END:VCALENDAR
