BEGIN:VCALENDAR
VERSION:2.0
BEGIN:VEVENT
CLASS:PUBLIC
CATEGORIES:MEETING
DTSTART;TZID=America/Chicago:20270905T200000
DTEND;TZID=America/Chicago:20270905T200000
SUMMARY:The Elders at KC IRISH FEST 
DESCRIPTION:Age Limit: All Ages
LOCATION:KC IRISH FEST  - GRAND AVENUE, Kansas City, MO, US
END:VEVENT

END:VCALENDAR
