BEGIN:VCALENDAR
VERSION:2.0
BEGIN:VEVENT
CLASS:PUBLIC
CATEGORIES:MEETING
DTSTART;TZID=America/Chicago:20270424T200000
DTEND;TZID=America/Chicago:20270424T200000
SUMMARY:The Elders at CONNECT 2 CULTURE CENTER
DESCRIPTION:Age Limit: All Ages
LOCATION:CONNECT 2 CULTURE CENTER - 212 W 7TH ST, Joplin, MO, 64801, US
END:VEVENT

END:VCALENDAR
