BEGIN:VCALENDAR
VERSION:2.0
BEGIN:VEVENT
CLASS:PUBLIC
CATEGORIES:MEETING
DTSTART;TZID=America/New_York:20260718T200000
DTEND;TZID=America/New_York:20260718T200000
SUMMARY:The Elders at Cleveland Cultural Festival 
DESCRIPTION:Price: $20\nClick here to buy tickets: https://www.clevelandirish.org/stc/fest-info/admission/\nAge Limit: All Ages
LOCATION:Cleveland Cultural Festival  - 19201 E. Bagley Road, Middleburg Heights, OH, 44130, US
END:VEVENT

END:VCALENDAR
