BEGIN:VCALENDAR
VERSION:2.0
BEGIN:VEVENT
CLASS:PUBLIC
CATEGORIES:MEETING
DTSTART;TZID=America/Denver:20260607T200000
DTEND;TZID=America/Denver:20260607T200000
SUMMARY:The Elders at The Oriental Theater
DESCRIPTION:Age Limit: All Ages
LOCATION:The Oriental Theater - 4335 W 44th Ave, Denver, CO, 80212, US
END:VEVENT

END:VCALENDAR
