BEGIN:VCALENDAR
VERSION:2.0
BEGIN:VEVENT
CLASS:PUBLIC
CATEGORIES:MEETING
DTSTART;TZID=America/Denver:20260605T200000
DTEND;TZID=America/Denver:20260605T200000
SUMMARY:The Elders at Stargazers
DESCRIPTION:Price: $25\nAge Limit: All Ages\n\nDetails: An electrifying night of Celtic rock as The Elders return to the Stargazers Theatre stage! Known for their powerful musicianship, soaring vocals, and timeless storytelling, The Elders blend traditional Celtic roots with high-energy rock in a way that leaves every audience on their feet
LOCATION:Stargazers - Colorado Springs, CO, US
END:VEVENT

END:VCALENDAR
