BEGIN:VCALENDAR
VERSION:2.0
BEGIN:VEVENT
CLASS:PUBLIC
CATEGORIES:MEETING
DTSTART;TZID=America/Chicago:20260423T200000
DTEND;TZID=America/Chicago:20260423T200000
SUMMARY:The Elders at KKFI Radio Interview 
DESCRIPTION:Age Limit: All Ages\n\nDetails: The Elders live radio interview on THE TOTALLY THROWBACK THURSDAY SHOW with Mason Heckler
LOCATION:KKFI Radio Interview  - 3901 Main Street, Kansas City, MO, 64111, US
END:VEVENT

END:VCALENDAR
