BEGIN:VCALENDAR
VERSION:2.0
BEGIN:VEVENT
CLASS:PUBLIC
CATEGORIES:MEETING
DTSTART;TZID=America/Denver:20260425T173000
DTEND;TZID=America/Denver:20260425T173000
SUMMARY:9 Left Dead at Walter Gerrells Performing Arts Center
DESCRIPTION:Click here to buy tickets: https://www.facebook.com/HawgfestTheNewRIde/\nAge Limit: All Ages
LOCATION:Walter Gerrells Performing Arts Center - Carlsbad, NM, US
END:VEVENT

END:VCALENDAR
