BEGIN:VCALENDAR
VERSION:2.0
BEGIN:VEVENT
CLASS:PUBLIC
CATEGORIES:MEETING
DTSTART;TZID=America/Chicago:20260716T200000
DTEND;TZID=America/Chicago:20260716T200000
SUMMARY:Texas Flood at Main Street Crossing
DESCRIPTION:Click here to buy tickets: https://mainstreetcrossing.com/artist-page-stevie-ray-vaughan-tribute-texas-flood-july-2026/?utm_source=&amp;utm_medium=artist_marketing&amp;utm_campaign=texas_flood_july_2026&amp;utm_content=&amp;utm_term=\nAge Limit: All Ages
LOCATION:Main Street Crossing - 111 W Main St, Tomball, TX, 77375, US
END:VEVENT

END:VCALENDAR
