BEGIN:VCALENDAR
VERSION:2.0
BEGIN:VEVENT
CLASS:PUBLIC
CATEGORIES:MEETING
DTSTART;TZID=America/Los_Angeles:20260718T180000
DTEND;TZID=America/Los_Angeles:20260718T180000
SUMMARY:Peter White at Thornton Winery
DESCRIPTION:Click here to buy tickets: https://www.tix.com/ticket-sales/ThorntonWinery/4672/event/1461820\nAge Limit: All Ages
LOCATION:Thornton Winery - 32575 Rancho California Road, Temecula, CA, 92591, US
END:VEVENT

END:VCALENDAR
