BEGIN:VCALENDAR
VERSION:2.0
BEGIN:VEVENT
CLASS:PUBLIC
CATEGORIES:MEETING
DTSTART;TZID=America/New_York:20260426T140000
DTEND;TZID=America/New_York:20260426T140000
SUMMARY:southern misfits at Rusted Palm Tiki Bar
DESCRIPTION:Age Limit: All Ages
LOCATION:Rusted Palm Tiki Bar - 7304 North Carolina 55, Wake County, NC, 27592, US
END:VEVENT

END:VCALENDAR
