BEGIN:VCALENDAR
VERSION:2.0
BEGIN:VEVENT
CLASS:PUBLIC
CATEGORIES:MEETING
DTSTART;TZID=America/New_York:20251201T200000
DTEND;TZID=America/New_York:20251201T200000
SUMMARY:Scotty and the Reverbs at Tom's Intestant Tavern
DESCRIPTION:Age Limit: All Ages
LOCATION:Tom's Intestant Tavern - Thornton, NH, 03285, US
END:VEVENT

END:VCALENDAR
