BEGIN:VCALENDAR
VERSION:2.0
BEGIN:VEVENT
CLASS:PUBLIC
CATEGORIES:MEETING
DTSTART;TZID=America/Denver:20260607T200000
DTEND;TZID=America/Denver:20260607T200000
SUMMARY:Scotty and the Reverbs at Detestable Dave's Donut Dive
DESCRIPTION:Price: $30\nClick here to buy tickets: https://google.com\nAge Limit: All Ages\n\nDetails: My Awesome Show
LOCATION:Detestable Dave's Donut Dive - 3119 28th St, Boulder, CO, 80304, US
END:VEVENT

END:VCALENDAR
