BEGIN:VCALENDAR
VERSION:2.0
BEGIN:VEVENT
CLASS:PUBLIC
CATEGORIES:MEETING
DTSTART;TZID=America/Chicago:20260623T180000
DTEND;TZID=America/Chicago:20260623T180000
SUMMARY:Eric Woods at BLUEGILL Restaurant
DESCRIPTION:Age Limit: All Ages
LOCATION:BLUEGILL Restaurant - 3775 Battleship Pkwy, Spanish Fort, AL, 36527, US
END:VEVENT

END:VCALENDAR
