BEGIN:VCALENDAR
VERSION:2.0
BEGIN:VEVENT
CLASS:PUBLIC
CATEGORIES:MEETING
DTSTART;TZID=America/Chicago:20260515T190000
DTEND;TZID=America/Chicago:20260515T190000
SUMMARY:Beth Bombara at Friendly Music Community
DESCRIPTION:Price: $20\nClick here to buy tickets: https://www.friendlymusic.community/event-details/friendly-listening-room-presents-beth-bombara\nAge Limit: All Ages\n\nDetails: Our first Friendly Listening Room concert in the Friendly Community Room features acclaimed singer-songwriter Beth Bombara performing in her first solo acoustic tour. Beth’s talent and ears reach way beyond those of your typical troubadour. “Like curtains being swept open to let in shafts of light.&quot;
LOCATION:Friendly Music Community - 6731 Roosevelt Road, Berwyn, IL, 60402, US
END:VEVENT

END:VCALENDAR
