BEGIN:VCALENDAR
VERSION:2.0
BEGIN:VEVENT
CLASS:PUBLIC
CATEGORIES:MEETING
DTSTART;TZID=America/Denver:20260515T210000
DTEND;TZID=America/Denver:20260515T210000
SUMMARY:Rythym Junction at Horse Palace
DESCRIPTION:Age Limit: 21+\n\nDetails: Rythym Junction will be playing this brand-new casino on May 15th and 16th starting at 9PM come check out the new casino and the favorite classics that we will be playing
LOCATION:Horse Palace - 755 Prospector Drive, Evanston, WY, 82930, US
END:VEVENT

END:VCALENDAR
