BEGIN:VCALENDAR
VERSION:2.0
BEGIN:VEVENT
CLASS:PUBLIC
CATEGORIES:MEETING
DTSTART;TZID=America/Chicago:20260613T200000
DTEND;TZID=America/Chicago:20260613T200000
SUMMARY:The Elders at The Kansas City Irish Center 
DESCRIPTION:Age Limit: All Ages
LOCATION:The Kansas City Irish Center  - 19 Linwood Boulevard, Kansas City, MO, 64111, US
END:VEVENT

END:VCALENDAR
