BEGIN:VCALENDAR
VERSION:2.0
BEGIN:VEVENT
CLASS:PUBLIC
CATEGORIES:MEETING
DTSTART;TZID=America/New_York:20260403T190000
DTEND;TZID=America/New_York:20260403T190000
SUMMARY:Spiros Soukis at Pangea
DESCRIPTION:Price: $20\nClick here to buy tickets: https://cur8.com/18134/project/138359\nAge Limit: All Ages\n\nDetails: A guitar tribute to Eric Clapton !
LOCATION:Pangea - 178 2nd Ave, New York, NY, 10003, US
END:VEVENT

END:VCALENDAR
