BEGIN:VCALENDAR
VERSION:2.0
BEGIN:VEVENT
CLASS:PUBLIC
CATEGORIES:MEETING
DTSTART;TZID=America/New_York:20260417T190000
DTEND;TZID=America/New_York:20260417T190000
SUMMARY:Bryan K Buchanan at The Bimini bar
DESCRIPTION:Age Limit: All Ages
LOCATION:The Bimini bar - 1022 west hwy 100, Bunnell, FL, 32110, US
END:VEVENT

END:VCALENDAR
