BEGIN:VCALENDAR
VERSION:2.0
BEGIN:VEVENT
CLASS:PUBLIC
CATEGORIES:MEETING
DTSTART;TZID=America/Chicago:20260606T190000
DTEND;TZID=America/Chicago:20260606T190000
SUMMARY:Michael Charles at Rumors
DESCRIPTION:Age Limit: All Ages\n\nDetails: \n\n“Touring his 19th international tour, the “Where to Next?” 2026 tour and known for his expressive guitar work and blistering guitar solos, Australian born, Chicago Blues Hall of Famer, Michael Charles, accompanied by a dynamic, well-rehearsed band, delivers a memorable, multi-genre performance of contemporary blues, blues-based rock and more.  Come out and experience Michael Charles live. The music, and the man, will leave an imprint on your soul.”\n
LOCATION:Rumors - 1210 S Shore Dr, Clear Lake, IA, 50428, US
END:VEVENT

END:VCALENDAR
