BEGIN:VCALENDAR
VERSION:2.0
BEGIN:VEVENT
CLASS:PUBLIC
CATEGORIES:MEETING
DTSTART;TZID=America/Chicago:20260417T180000
DTEND;TZID=America/Chicago:20260417T180000
SUMMARY:Brian Grace Music at Old Vine Texas
DESCRIPTION:Age Limit: All Ages
LOCATION:Old Vine Texas - 403 East Broad Street, Mansfield, TX, 76063, US
END:VEVENT

END:VCALENDAR
