BEGIN:VCALENDAR
VERSION:2.0
BEGIN:VEVENT
CLASS:PUBLIC
CATEGORIES:MEETING
DTSTART;TZID=America/New_York:20260328T170000
DTEND;TZID=America/New_York:20260328T170000
SUMMARY:Chris Springer Music at Spiro's Taverna of St. Lucie West
DESCRIPTION:Age Limit: 18+ or w/ adult
LOCATION:Spiro's Taverna of St. Lucie West - 1680 Saint Lucie West Boulevard, Port St. Lucie, FL, 34986, US
END:VEVENT

END:VCALENDAR
